BEGIN:VCALENDAR
VERSION:2.0
PRODID:-//ChamberMaster//Event Calendar 2.0//EN
METHOD:PUBLISH
X-PUBLISHED-TTL:P3D
REFRESH-INTERVAL:P3D
CALSCALE:GREGORIAN
BEGIN:VEVENT
DTSTART;VALUE=DATE:20150623
DTEND;VALUE=DATE:20150624
TRANSP:TRANSPARENT
X-MICROSOFT-CDO-ALLDAYEVENT:TRUE
SUMMARY:Vacation Bible School at Sugar Creek Lutheran
DESCRIPTION:Do you have younger brothers and sisters? We invite them to join us for this free Big Heart Farm Vacation Bible School hosted at Sugar Creek Lutheran Church. A donation will be collected through the week to help with the Global Barnyard project. VBS programs are open to all children 3years - 5th grade. Youth are encouraged to volunteer to assist leading.
X-ALT-DESC;FMTTYPE=text/html:<span><span>Do you have younger brothers and sisters? We invite them to join us for this free Big Heart Farm Vacation Bible School hosted at Sugar Creek Lutheran Church. A donation will be collected through the week to help with the Global Barnyard project. VBS programs are open to all children 3years - 5th grade. Youth are encouraged to volunteer to assist leading.&nbsp\;</span></span>
LOCATION:Sugar Creek Lutheran Church N5690 Cobblestone Rd.\, Elkhorn
UID:e.2059.1590
SEQUENCE:3
DTSTAMP:20260424T192912Z
URL:https://business.elkhornchamber.com/events/details/vacation-bible-school-at-sugar-creek-lutheran-06-23-2015-1590
END:VEVENT

END:VCALENDAR
