BEGIN:VCALENDAR
VERSION:2.0
PRODID:-//ChamberMaster//Event Calendar 2.0//EN
METHOD:PUBLISH
X-PUBLISHED-TTL:P3D
REFRESH-INTERVAL:P3D
CALSCALE:GREGORIAN
BEGIN:VEVENT
DTSTART:20191208T000000Z
DTEND:20191208T043000Z
X-MICROSOFT-CDO-ALLDAYEVENT:FALSE
SUMMARY:UW-Whitewater Music Department presents Gala Holiday Concert
DESCRIPTION:An annual holiday tradition\, this evening of holiday music features a dinner\, concert\, and silent auction\, as well as nearly every student ensemble playing throughtout the building. All proceeds from the dinner\, auction\, and concert benefit the UW-Whitewater Music Department's scholarship fund\, which allows the department to recognize students for thier talents and acedemic excellence. Saturday December 7th Dinner starts at 6:00 pm and Concert starts at 7:30 pm.
X-ALT-DESC;FMTTYPE=text/html:An annual holiday tradition\, this evening of holiday music features a dinner\, concert\, and silent auction\, as well as nearly every student ensemble playing throughtout the building. All proceeds from the dinner\, auction\, and concert benefit the UW-Whitewater Music Department&#39\;s scholarship fund\, which allows the department to recognize students for thier talents and acedemic excellence. Saturday December 7th Dinner starts at 6:00 pm and Concert starts at 7:30 pm.&nbsp\;
LOCATION:Young Auditorium 930 West Main Street\, Whitewater
UID:e.2059.11015
SEQUENCE:3
DTSTAMP:20260419T235209Z
URL:https://business.elkhornchamber.com/events/details/uw-whitewater-music-department-presents-gala-holiday-concert-11015
END:VEVENT

END:VCALENDAR
