BEGIN:VCALENDAR
VERSION:2.0
PRODID:-//ChamberMaster//Event Calendar 2.0//EN
METHOD:PUBLISH
X-PUBLISHED-TTL:P3D
REFRESH-INTERVAL:P3D
CALSCALE:GREGORIAN
BEGIN:VEVENT
DTSTART:20140913T223000Z
DTEND:20140914T010000Z
X-MICROSOFT-CDO-ALLDAYEVENT:FALSE
SUMMARY:UU Church Fishfest
DESCRIPTION:There will be boiled fish\, potatoes & onions\, assorted breads\, homemade desserts\, music and fun. There will also be a 50/50 raffle.
X-ALT-DESC;FMTTYPE=text/html:There will be boiled fish\, potatoes &amp\; onions\, assorted breads\, homemade desserts\, music and fun. There will also be a 50/50 raffle.
LOCATION:Unitarian Universalist Church 319 N. Broad St.\, Elkhorn
UID:e.2059.280
SEQUENCE:3
DTSTAMP:20260425T122007Z
URL:https://business.elkhornchamber.com/events/details/uu-church-fishfest-09-13-2014-280
END:VEVENT

END:VCALENDAR
