BEGIN:VCALENDAR
VERSION:2.0
PRODID:-//ChamberMaster//Event Calendar 2.0//EN
METHOD:PUBLISH
X-PUBLISHED-TTL:P3D
REFRESH-INTERVAL:P3D
CALSCALE:GREGORIAN
BEGIN:VEVENT
DTSTART:20180622T140000Z
DTEND:20180622T230000Z
X-MICROSOFT-CDO-ALLDAYEVENT:FALSE
SUMMARY:Usborne Book Sale at the library
DESCRIPTION:Browse or buy books from Usborne Books\, in the library lobby. Matheson gets a percentage of each purchase!
X-ALT-DESC;FMTTYPE=text/html:<span style="color:rgb(0\, 0\, 0)\; font-family:arial\; font-size:12px">Browse or buy books from Usborne Books\, in the library lobby. Matheson gets a percentage of each purchase!</span>
LOCATION:Matheson Memorial Library
UID:e.2059.8959
SEQUENCE:3
DTSTAMP:20260422T073853Z
URL:https://business.elkhornchamber.com/events/details/usborne-book-sale-at-the-library-8959
END:VEVENT

END:VCALENDAR
