BEGIN:VCALENDAR
VERSION:2.0
PRODID:-//ChamberMaster//Event Calendar 2.0//EN
METHOD:PUBLISH
X-PUBLISHED-TTL:P3D
REFRESH-INTERVAL:P3D
CALSCALE:GREGORIAN
BEGIN:VEVENT
DTSTART:20160531T220000Z
DTEND:20160601T000000Z
X-MICROSOFT-CDO-ALLDAYEVENT:FALSE
SUMMARY:United Chiropractic Sports & Rehabilitation Business After Hours
DESCRIPTION:We would like to invite you to take a Tour & Meet the Elkhorn Chiropractic staff from United Chiropractic Sports & Rehabilitation. Dr. Todd will be offering Beer & Wine as well as light apps for your enjoyment. If you are looking for a cost-effective and non-invasive solution to pain management and injury rehabilitation or just interested in what United offers\, there is no better time to learn than Now!
X-ALT-DESC;FMTTYPE=text/html:<span style="font-size: 14pt\; color: #000000\;" title="">We would like to invite you to take a Tour &amp\; Meet the Elkhorn Chiropractic staff from United Chiropractic Sports &amp\; Rehabilitation. Dr. Todd will be offering Beer &amp\; Wine as well as light apps for your enjoyment. If you are looking for a cost-effective and non-invasive solution to pain management and injury rehabilitation or just interested in what United offers\, there is no better time to learn than Now! </span>
LOCATION:United Chiropractic Sports and Rehabilitation 422 N. Wisconsin St Elkhorn\, WI 53121
UID:e.2059.3446
SEQUENCE:3
DTSTAMP:20260424T012605Z
URL:https://business.elkhornchamber.com/events/details/united-chiropractic-sports-rehabilitation-business-after-hours-05-31-2016-3446
END:VEVENT

END:VCALENDAR
