BEGIN:VCALENDAR
VERSION:2.0
PRODID:-//ChamberMaster//Event Calendar 2.0//EN
METHOD:PUBLISH
X-PUBLISHED-TTL:P3D
REFRESH-INTERVAL:P3D
CALSCALE:GREGORIAN
BEGIN:VEVENT
DTSTART:20161116T190000Z
DTEND:20161116T220000Z
X-MICROSOFT-CDO-ALLDAYEVENT:FALSE
SUMMARY:Understanding Alzheimer's disease and Dementia
DESCRIPTION:In observance of Home Care Month and in keeping with our theme of Hearts2Home\, Society's Assets is hosting two free informational programs that promote memory care and offer suggestions for caring for those with Alzheimer's disease\, dementia\, and other conditions. Learn about symptoms\, personality changes\, challenging behaviors\, overcoming communication barriers\, and adaptive equipment.\n\n\n\nA nurse\, along with an independent living coordinator will present.  There will also be a Q & A session\, a light lunch\, blood pressure screenings\, and a resource table.\n\n\n\nWear purple to the program in support of a world without Alzheimer's disease.
X-ALT-DESC;FMTTYPE=text/html:In observance of Home Care Month and in keeping with our theme of Hearts2Home\, Society&#39\;s Assets is hosting two free informational programs that promote memory care and offer suggestions for caring for those with Alzheimer&#39\;s disease\, dementia\, and other conditions. Learn about symptoms\, personality changes\, challenging behaviors\, overcoming communication barriers\, and adaptive equipment.<br />\n<br />\nA nurse\, along with an independent living coordinator will present.&nbsp\; There will also be a Q &amp\; A session\, a light lunch\, blood pressure screenings\, and a resource table.<br />\n<br />\nWear purple to the program in support of a world without Alzheimer&#39\;s disease.
LOCATION:Society's Assets 615 E. Geneva Street Elkhorn
UID:e.2059.4566
SEQUENCE:3
DTSTAMP:20260423T153900Z
URL:https://business.elkhornchamber.com/events/details/understanding-alzheimer-s-disease-and-dementia-4566
END:VEVENT

END:VCALENDAR
