BEGIN:VCALENDAR
VERSION:2.0
PRODID:-//ChamberMaster//Event Calendar 2.0//EN
METHOD:PUBLISH
X-PUBLISHED-TTL:P3D
REFRESH-INTERVAL:P3D
CALSCALE:GREGORIAN
BEGIN:VEVENT
DTSTART;VALUE=DATE:20190222
DTEND;VALUE=DATE:20190223
TRANSP:TRANSPARENT
X-MICROSOFT-CDO-ALLDAYEVENT:TRUE
SUMMARY:"Underpants" Comedy by Lakeland Players
DESCRIPTION:A comedy written by Steve Martin " Underpants" performed by Lakeland Players
X-ALT-DESC;FMTTYPE=text/html:A comedy written by Steve Martin &quot\; Underpants&quot\; performed by Lakeland Players
LOCATION:15 W. Walworth Street Elkhorn\, WI 53121
UID:e.2059.8700
SEQUENCE:3
DTSTAMP:20260421T171956Z
URL:https://business.elkhornchamber.com/events/details/underpants-comedy-by-lakeland-players-02-22-2019-8700
END:VEVENT

END:VCALENDAR
