BEGIN:VCALENDAR
VERSION:2.0
PRODID:-//ChamberMaster//Event Calendar 2.0//EN
METHOD:PUBLISH
X-PUBLISHED-TTL:P3D
REFRESH-INTERVAL:P3D
CALSCALE:GREGORIAN
BEGIN:VEVENT
DTSTART:20160326T220000Z
DTEND:20160326T220000Z
X-MICROSOFT-CDO-ALLDAYEVENT:FALSE
SUMMARY:"Under the Sea" Glow in the Dark Easter Egg Hunt
DESCRIPTION:"Under the Sea" Glow in the Dark Easter Egg Hunt at St. John's Church March 26th\n\nSt. John's Church\, located in downtown Elkhorn\, will be hosting its third annual Glow-In-The-Dark Easter Egg Hunt on Saturday\, March 26th directly following the 5:00pm worship service. No sign up necessary\, just come!\n\nThis year's hunt is themed "Under the Sea"\, and will include a whole new format and expanded volunteer team to make this year the biggest and best hunt yet.\n\nChildren ages 2 through 6th grade will be invited into the hunt separately based on age\, while those waiting will enjoy live entertainment and refreshments in the sanctuary.\n\nThe 5:00pm worship service March 26th will be the first of four Easter weekend services at St. John's\, and will be geared especially toward families with kids. Sunday services will be held March 27th at 8:00\, 9:15 & 10:45am\, with a Pancake Breakfast served from 8:00-10:45am.\n\nSt. John's is located on the corner of West Geneva and South Broad Streets in Downtown Elkhorn\, just one block from the square. For more information\, please visit www.stjohnselkhorn.com or call 262-723-2901.
X-ALT-DESC;FMTTYPE=text/html:<p align="center" style="text-align:center"><b><span style="font-size:18pt\;font-family:Georgia\,serif">&ldquo\;Under the Sea&rdquo\; Glow in the Dark Easter Egg Hunt&nbsp\;</span></b><b><span style="font-size:18pt\;font-family:Georgia\,serif">at St. John&rsquo\;s Church March 26<sup>th</sup></span></b></p>\n\n<p><span style="font-family:Georgia\,serif">St. John&rsquo\;s Church\, located in downtown Elkhorn\, will be hosting its third annual Glow-In-The-Dark Easter Egg Hunt on Saturday\, March 26</span><sup style="font-family:Georgia\,serif">th</sup><span style="font-family:Georgia\,serif"> directly following the 5:00pm worship service. No sign up necessary\, just come!</span></p>\n\n<p><span style="font-family:Georgia\,serif">This year&rsquo\;s hunt is themed &ldquo\;Under the Sea&rdquo\;\, and will include a whole new format and expanded volunteer team to make this year the biggest and best hunt yet.</span></p>\n\n<p><span style="font-family:Georgia\,serif">Children ages 2 through 6<sup>th</sup> grade will be invited into the hunt separately based on age\, while those waiting will enjoy live entertainment and refreshments in the sanctuary.</span></p>\n\n<p><span style="font-family:Georgia\,serif">The 5:00pm worship service March 26<sup>th</sup> will be the first of four Easter weekend services at St. John&rsquo\;s\, and will be geared especially toward families with kids. Sunday services will be held March 27<sup>th</sup> at 8:00\, 9:15 &amp\; 10:45am\, with a Pancake Breakfast served from 8:00-10:45am.</span></p>\n\n<p><span style="font-family:Georgia\,serif">St. John&rsquo\;s is located on the corner of West Geneva and South Broad Streets in Downtown Elkhorn\, just one block from the square. For more information\, please visit </span><a href="http://www.stjohnselkhorn.com/" target="_blank" title="This external link will open in a new window"><span style="font-family:Georgia\,serif">www.stjohnselkhorn.com</span></a><span style="font-family:Georgia\,serif"> or call <a target="_blank" title="This external link will open in a new window" value="+12627232901">262-723-2901</a>.</span></p>\n
LOCATION:St. John's is located on the corner of West Geneva and South Broad St\, Downtown Elkhorn
UID:e.2059.2073
SEQUENCE:3
DTSTAMP:20260424T045914Z
URL:https://business.elkhornchamber.com/events/details/under-the-sea-glow-in-the-dark-easter-egg-hunt-03-26-2016-2073
END:VEVENT

END:VCALENDAR
