BEGIN:VCALENDAR
VERSION:2.0
PRODID:-//ChamberMaster//Event Calendar 2.0//EN
METHOD:PUBLISH
X-PUBLISHED-TTL:P3D
REFRESH-INTERVAL:P3D
CALSCALE:GREGORIAN
BEGIN:VEVENT
DTSTART;VALUE=DATE:20180111
DTEND;VALUE=DATE:20180112
TRANSP:TRANSPARENT
X-MICROSOFT-CDO-ALLDAYEVENT:TRUE
SUMMARY:U.S. Cellular Event: Switch and get a FREE iPhone
DESCRIPTION:For a limited time only\, get an iPhone 7 FREE or an iPhone 8 for just $5/mo when you switch to U.S. Cellular. Enjoy the convenience of booking an appointment to sit down with a rep at the time that's just right for you. \n\n\n\nBook your next visit at mkcellular.com\n\n\n\nRestrictions apply. See store for details.
X-ALT-DESC;FMTTYPE=text/html:<span style="font-size:14px">For a limited time only\, get an iPhone 7 FREE or an iPhone 8 for just $5/mo when you switch to U.S. Cellular. Enjoy the convenience of booking an appointment to sit down with a rep at the time that&#39\;s just right for you.&nbsp\;</span><br />\n<br />\n<span style="font-size:20px"><strong>Book your next visit at <a href="http://mkcellular.com">mkcellular.com</a></strong></span><br />\n<br />\n<span style="font-size:10px">Restrictions apply. See store for details.&nbsp\;</span>
LOCATION:mkCellular\, U.S. Cellular Authorized Agent 58 W Market St Elkhorn\, WI 53121 GET DIRECTIONS
UID:e.2059.7507
SEQUENCE:3
DTSTAMP:20260422T164029Z
URL:https://business.elkhornchamber.com/events/details/u-s-cellular-event-switch-and-get-a-free-iphone-01-11-2018-7507
END:VEVENT

END:VCALENDAR
