BEGIN:VCALENDAR
VERSION:2.0
PRODID:-//ChamberMaster//Event Calendar 2.0//EN
METHOD:PUBLISH
X-PUBLISHED-TTL:P3D
REFRESH-INTERVAL:P3D
CALSCALE:GREGORIAN
BEGIN:VEVENT
DTSTART;VALUE=DATE:20160811
DTEND;VALUE=DATE:20160812
TRANSP:TRANSPARENT
X-MICROSOFT-CDO-ALLDAYEVENT:TRUE
SUMMARY:Two for One at Sunset Pool
DESCRIPTION:Join us at the Sunset Park for a two for one special! With one paid admission\, receive one free admission. There will be a photo booth present and a 2 for 1 pricing deal on nachos & slushies!
X-ALT-DESC;FMTTYPE=text/html:Join us at the Sunset Park for a two for one special! With one paid admission\, receive one free admission. There will be a photo booth present and a 2 for 1 pricing deal on nachos &amp\; slushies!
LOCATION:Sunset Pool of Elkhorn Located on Devendorf St\, West Centrailia St and Park Avenue.
UID:e.2059.3512
SEQUENCE:3
DTSTAMP:20260423T203349Z
URL:https://business.elkhornchamber.com/events/details/two-for-one-at-sunset-pool-08-11-2016-3512
END:VEVENT

END:VCALENDAR
