BEGIN:VCALENDAR
VERSION:2.0
PRODID:-//ChamberMaster//Event Calendar 2.0//EN
METHOD:PUBLISH
X-PUBLISHED-TTL:P3D
REFRESH-INTERVAL:P3D
CALSCALE:GREGORIAN
BEGIN:VEVENT
DTSTART:20150412T140000Z
DTEND:20150412T190000Z
X-MICROSOFT-CDO-ALLDAYEVENT:FALSE
SUMMARY:Two Cup Challenge
DESCRIPTION:Get to the green then play either cup you want...2 per hole. Play your best miss. 18 hole scramble with 3 person teams\, paired as 6-somes. Play will be on North & South courses. Men: white tees / Women: Gold tees. Lunch Buffet after golf in the Pub. 3 Team Prizes as gift Cards 1st $40\, 4th $25\, 8th $15. Optional Team Skins Game. Only $40 per player. To register\, visit Evergreen's website.
X-ALT-DESC;FMTTYPE=text/html:Get to the green then play either cup you want...2 per hole. Play your best miss. 18 hole scramble with 3 person teams\, paired as 6-somes. Play will be on North &amp\; South courses. Men: white tees / Women: Gold tees. Lunch Buffet after golf in the Pub. 3 Team Prizes as gift Cards 1st $40\, 4th $25\, 8th $15. Optional Team Skins Game. Only $40 per player. To register\, visit Evergreen&#39\;s website.
LOCATION:Evergreen Golf Club N6246 Hwy 12/67\, Elkhorn
UID:e.2059.1153
SEQUENCE:3
DTSTAMP:20260424T224337Z
URL:https://business.elkhornchamber.com/events/details/two-cup-challenge-04-12-2015-1153
END:VEVENT

END:VCALENDAR
