BEGIN:VCALENDAR
VERSION:2.0
PRODID:-//ChamberMaster//Event Calendar 2.0//EN
METHOD:PUBLISH
X-PUBLISHED-TTL:P3D
REFRESH-INTERVAL:P3D
CALSCALE:GREGORIAN
BEGIN:VEVENT
DTSTART:20190216T170000Z
DTEND:20190216T180000Z
X-MICROSOFT-CDO-ALLDAYEVENT:FALSE
SUMMARY:Turn a New Page on Fitness
DESCRIPTION:Please join library staff member and fitness coach Terri Dellamaria for a fun and informative afternoon to get you on track to get fit and enjoy a healthier lifestyle while doing everyday things at home.
X-ALT-DESC;FMTTYPE=text/html:<span style="color:rgb(0\, 0\, 0)\; font-family:arial\; font-size:12px">Please join library staff member and fitness coach Terri Dellamaria for a fun and informative afternoon to get you on track to get fit and enjoy a healthier lifestyle while doing everyday things at home.</span>
LOCATION:Matheson Memorial Library
UID:e.2059.10247
SEQUENCE:3
DTSTAMP:20260421T172103Z
URL:https://business.elkhornchamber.com/events/details/turn-a-new-page-on-fitness-02-16-2019-10247
END:VEVENT

END:VCALENDAR
