BEGIN:VCALENDAR
VERSION:2.0
PRODID:-//ChamberMaster//Event Calendar 2.0//EN
METHOD:PUBLISH
X-PUBLISHED-TTL:P3D
REFRESH-INTERVAL:P3D
CALSCALE:GREGORIAN
BEGIN:VEVENT
DTSTART;VALUE=DATE:20151018
DTEND;VALUE=DATE:20151019
TRANSP:TRANSPARENT
X-MICROSOFT-CDO-ALLDAYEVENT:TRUE
SUMMARY:Turkey Shoot Scramble
DESCRIPTION:18 hole Scramble ( North/South Course)\n\n4 person teams\, outing prizes for 1st\, 4th & 8th places\n\n6 on course Hole Events\, Cash skins game available.\n\nEVERYONE BRINGS HOME A FREE FROZEN TURKEY!
X-ALT-DESC;FMTTYPE=text/html:18 hole Scramble ( North/South Course)<br />\n4 person teams\, outing prizes for 1st\, 4th &amp\; 8th places<br />\n6 on course Hole Events\, Cash skins game available.<br />\nEVERYONE BRINGS HOME A FREE FROZEN TURKEY!
LOCATION:Evergreen Golf Club
UID:e.2059.1672
SEQUENCE:3
DTSTAMP:20260424T123853Z
URL:https://business.elkhornchamber.com/events/details/turkey-shoot-scramble-10-18-2015-1672
END:VEVENT

END:VCALENDAR
