BEGIN:VCALENDAR
VERSION:2.0
PRODID:-//ChamberMaster//Event Calendar 2.0//EN
METHOD:PUBLISH
X-PUBLISHED-TTL:P3D
REFRESH-INTERVAL:P3D
CALSCALE:GREGORIAN
BEGIN:VEVENT
DTSTART:20180918T190000Z
DTEND:20180918T190000Z
X-MICROSOFT-CDO-ALLDAYEVENT:FALSE
SUMMARY:Tuesday Men's Golf League - Evergreen Country Club
DESCRIPTION:uesday Men's League\n\n \n\nLeague activities are every Tuesday starting April 10\n\nApril 3rd is the kickoff meeting & registration at 6pm.\n\nAlso on April 3rd there will be FREE Appetizers\, Drink Specials & you can sign up to receive the NEW FREE ePlayers Reward Card!\n\nFrom April 10th on tee times start at 2pm...arrive with your group or join up with other players\n\nEach week features Events & Skins games\n\nSpecial Drink & Food prices in The PUB after play\n\n  $25 weekly green & cart fee (a $5 savings)...or you can use your membership.\n\nYearly Memberships start at $899 [info]\n\n \n\nTuesday League fee for the entire season: $21.00\n\n \n\nTuesday Eve League Contact: Gary Otte  Gary.Otte09@gmail.com
X-ALT-DESC;FMTTYPE=text/html:<p class="font_8" style="margin: 0px\; padding: 0px\; border: 0px\; outline: 0px\; vertical-align: baseline\; background: 0px 0px\; font-variant-numeric: normal\; font-variant-east-asian: normal\; font-stretch: normal\; font-size: 20px\; line-height: normal\; font-family: din-next-w01-light\, din-next-w02-light\, din-next-w10-light\, sans-serif\; color: rgb(96\, 94\, 94)\; pointer-events: auto\; text-align: center\;"><span style="margin: 0px\; padding: 0px\; border: 0px\; outline: 0px\; vertical-align: baseline\; background: 0px 0px\; text-shadow: rgba(0\, 0\, 0\, 0.4) 0px 4px 5px\;"><span style="margin: 0px\; padding: 0px\; border: 0px\; outline: 0px\; vertical-align: baseline\; background: 0px 0px\; font-style: italic\;"><span style="margin: 0px\; padding: 0px\; border: 0px\; outline: 0px\; vertical-align: baseline\; background: 0px 0px\;"><span style="margin: 0px\; padding: 0px\; border: 0px\; outline: 0px\; vertical-align: baseline\; background: 0px 0px\; font-weight: bold\;">uesday Men&#39\;s League</span></span></span></span></p>\n\n<p class="font_8" style="margin: 0px\; padding: 0px\; border: 0px\; outline: 0px\; vertical-align: baseline\; background: 0px 0px\; font-variant-numeric: normal\; font-variant-east-asian: normal\; font-stretch: normal\; font-size: 15px\; line-height: normal\; font-family: din-next-w01-light\, din-next-w02-light\, din-next-w10-light\, sans-serif\; color: rgb(96\, 94\, 94)\; pointer-events: auto\; text-align: center\;">&nbsp\;</p>\n\n<p class="font_8" style="margin: 0px\; padding: 0px\; border: 0px\; outline: 0px\; vertical-align: baseline\; background: 0px 0px\; font-variant-numeric: normal\; font-variant-east-asian: normal\; font-stretch: normal\; font-size: 15px\; line-height: normal\; font-family: din-next-w01-light\, din-next-w02-light\, din-next-w10-light\, sans-serif\; color: rgb(96\, 94\, 94)\; pointer-events: auto\; text-align: center\;">League activities are&nbsp\;every Tuesday&nbsp\;starting April 10<br />\n<span style="margin: 0px\; padding: 0px\; border: 0px\; outline: 0px\; vertical-align: baseline\; background: 0px 0px\; font-weight: bold\;">April 3rd is the kickoff meeting &amp\; registration at 6pm.</span><br />\nAlso on April 3rd there will be FREE Appetizers\, Drink Specials &amp\; you can sign up to receive the NEW FREE ePlayers Reward Card!<br />\nFrom April 10th on tee times start at 2pm...arrive with your group or join up with other players</p>\n\n<p class="font_8" style="margin: 0px\; padding: 0px\; border: 0px\; outline: 0px\; vertical-align: baseline\; background: 0px 0px\; font-variant-numeric: normal\; font-variant-east-asian: normal\; font-stretch: normal\; font-size: 15px\; line-height: normal\; font-family: din-next-w01-light\, din-next-w02-light\, din-next-w10-light\, sans-serif\; color: rgb(96\, 94\, 94)\; pointer-events: auto\; text-align: center\;">Each week features Events &amp\; Skins games<br />\nSpecial Drink &amp\; Food prices in The PUB after play<br />\n&bull\; $25 weekly green &amp\; cart fee (a $5 savings)...or you can use your membership.<br />\nYearly Memberships start at $899 [<span style="margin: 0px\; padding: 0px\; border: 0px\; outline: 0px\; vertical-align: baseline\; background: 0px 0px\; text-decoration-line: underline\;"><a href="https://www.evergreengolf.com/become-a-member" style="margin: 0px\; padding: 0px\; border: 0px\; outline: 0px\; vertical-align: baseline\; background: 0px 0px\; cursor: pointer\; text-decoration-line: none\; color: inherit\;" target="_self">info</a></span>]</p>\n\n<p class="font_8" style="margin: 0px\; padding: 0px\; border: 0px\; outline: 0px\; vertical-align: baseline\; background: 0px 0px\; font-variant-numeric: normal\; font-variant-east-asian: normal\; font-stretch: normal\; font-size: 15px\; line-height: normal\; font-family: din-next-w01-light\, din-next-w02-light\, din-next-w10-light\, sans-serif\; color: rgb(96\, 94\, 94)\; pointer-events: auto\; text-align: center\;">&nbsp\;</p>\n\n<p class="font_8" style="margin: 0px\; padding: 0px\; border: 0px\; outline: 0px\; vertical-align: baseline\; background: 0px 0px\; font-variant-numeric: normal\; font-variant-east-asian: normal\; font-stretch: normal\; font-size: 15px\; line-height: normal\; font-family: din-next-w01-light\, din-next-w02-light\, din-next-w10-light\, sans-serif\; color: rgb(96\, 94\, 94)\; pointer-events: auto\; text-align: center\;"><span style="margin: 0px\; padding: 0px\; border: 0px\; outline: 0px\; vertical-align: baseline\; background: 0px 0px\; font-weight: bold\;">Tuesday League fee for the entire season: $21.00</span></p>\n\n<p class="font_8" style="margin: 0px\; padding: 0px\; border: 0px\; outline: 0px\; vertical-align: baseline\; background: 0px 0px\; font-variant-numeric: normal\; font-variant-east-asian: normal\; font-stretch: normal\; font-size: 15px\; line-height: normal\; font-family: din-next-w01-light\, din-next-w02-light\, din-next-w10-light\, sans-serif\; color: rgb(96\, 94\, 94)\; pointer-events: auto\; text-align: center\;"><span style="margin: 0px\; padding: 0px\; border: 0px\; outline: 0px\; vertical-align: baseline\; background: 0px 0px\; font-weight: bold\;">&#8203\;</span></p>\n\n<p class="font_8" style="margin: 0px\; padding: 0px\; border: 0px\; outline: 0px\; vertical-align: baseline\; background: 0px 0px\; font-variant-numeric: normal\; font-variant-east-asian: normal\; font-stretch: normal\; font-size: 15px\; line-height: normal\; font-family: din-next-w01-light\, din-next-w02-light\, din-next-w10-light\, sans-serif\; color: rgb(96\, 94\, 94)\; pointer-events: auto\; text-align: center\;">Tuesday Eve League Contact: Gary Otte&nbsp\;&nbsp\;Gary.Otte09@gmail.com</p>\n
LOCATION:Evergreen Country Club\, N6246 US-12\, Elkhorn\, WI 53121
UID:e.2059.9240
SEQUENCE:3
DTSTAMP:20260422T021709Z
URL:https://business.elkhornchamber.com/events/details/tuesday-men-s-golf-league-evergreen-country-club-09-18-2018-9240
END:VEVENT

END:VCALENDAR
