BEGIN:VCALENDAR
VERSION:2.0
PRODID:-//ChamberMaster//Event Calendar 2.0//EN
METHOD:PUBLISH
X-PUBLISHED-TTL:P3D
REFRESH-INTERVAL:P3D
CALSCALE:GREGORIAN
BEGIN:VEVENT
DTSTART:20161029T000000Z
DTEND:20161029T030000Z
X-MICROSOFT-CDO-ALLDAYEVENT:FALSE
SUMMARY:Trick-or-Trivia Night Fundraiser
DESCRIPTION:Trick-or-Trivia is back! Join us at the Elkhorn library for the 4th Annual trivia night fundraiser to benefit 2017 Adult & Children's library programming. Scary-smart teams answer general knowledge trivia for a $200 cash prize! Trivia provided by Bob Kordus of America's Pub Quiz Wisconsin. Costume contest\, snacks\, drinks\, and more!
X-ALT-DESC;FMTTYPE=text/html:Trick-or-Trivia is back! Join us at the Elkhorn library for the 4th Annual trivia night fundraiser to benefit 2017 Adult &amp\; Children&#39\;s library programming. Scary-smart teams answer general knowledge trivia for a $200 cash prize! Trivia provided by Bob Kordus of America&#39\;s Pub Quiz Wisconsin. Costume contest\, snacks\, drinks\, and more!
LOCATION:Matheson Memorial Library 101 N. Wisconsin Street Elkhorn\, WI 53121
UID:e.2059.3440
SEQUENCE:3
DTSTAMP:20260423T172558Z
URL:https://business.elkhornchamber.com/events/details/trick-or-trivia-night-fundraiser-10-28-2016-3440
END:VEVENT

END:VCALENDAR
