BEGIN:VCALENDAR
VERSION:2.0
PRODID:-//ChamberMaster//Event Calendar 2.0//EN
METHOD:PUBLISH
X-PUBLISHED-TTL:P3D
REFRESH-INTERVAL:P3D
CALSCALE:GREGORIAN
BEGIN:VEVENT
DTSTART:20141018T000000Z
DTEND:20141018T020000Z
X-MICROSOFT-CDO-ALLDAYEVENT:FALSE
SUMMARY:Trick-or-Trivia
DESCRIPTION:Friends of the Matheson Memorial Library invites you to their 2nd annual trivia night library fundraiser. The winning team will receive a $200 cash prize. $25 ticket includes admission\, two drinks (beer\, wine\, soda) and tons of snacks. Cash bar available. Attendees must be 21 years or over. Costumes are encouraged but not required. Space is limited so sign up today.
X-ALT-DESC;FMTTYPE=text/html:Friends of the Matheson Memorial Library invites you to their 2nd annual trivia night library fundraiser. The winning team will receive a $200 cash prize. $25 ticket includes admission\, two drinks (beer\, wine\, soda) and tons of snacks. Cash bar available. Attendees must be 21 years or over. Costumes are encouraged but not required. Space is limited so sign up today.
LOCATION:Matheson Memorial Library 101 N. Wisconsin St.\, Elkhorn
UID:e.2059.504
SEQUENCE:3
DTSTAMP:20260425T115433Z
URL:https://business.elkhornchamber.com/events/details/trick-or-trivia-10-17-2014-504
END:VEVENT

END:VCALENDAR
