BEGIN:VCALENDAR
VERSION:2.0
PRODID:-//ChamberMaster//Event Calendar 2.0//EN
METHOD:PUBLISH
X-PUBLISHED-TTL:P3D
REFRESH-INTERVAL:P3D
CALSCALE:GREGORIAN
BEGIN:VEVENT
DTSTART:20151205T003000Z
DTEND:20151205T020000Z
X-MICROSOFT-CDO-ALLDAYEVENT:FALSE
SUMMARY:Tree Lighting with Santa & Mrs. Claus Reception
DESCRIPTION:Join Peoples Bank Friday\, December 4th as we light up the town with Christmas Spirit at the Town Christmas Tree Lighting with the big man himself\, Santa Claus\, and a special helper wave their wand to magically light the tree in the downtown square. Afterwards\, all are welcome to the Matheson Memorial Library for the Peoples Bank sponsored Santa and Mrs. Claus Reception. Enjoy free hot chocolate\, cookies\, music and crafts while the kids wait for their turn to tell Santa what they want for Christmas. Parents don't forget to bring your cameras to capture this memorable moment.
X-ALT-DESC;FMTTYPE=text/html:Join Peoples Bank Friday\, December 4th as we light up the town with Christmas Spirit at the Town Christmas Tree Lighting with the big man himself\, Santa Claus\, and a special helper wave their wand to magically light the tree in the downtown square. Afterwards\, all are welcome to the Matheson Memorial Library for the Peoples Bank sponsored Santa and Mrs. Claus Reception. Enjoy free hot chocolate\, cookies\, music and crafts while the kids wait for their turn to tell Santa what they want for Christmas. Parents don&#39\;t forget to bring your cameras to capture this memorable moment.
LOCATION:Veterans Park and Matheson Memorial Library Downtown Square - Elkhorn
UID:e.2059.933
SEQUENCE:3
DTSTAMP:20260424T094303Z
URL:https://business.elkhornchamber.com/events/details/tree-lighting-with-santa-mrs-claus-reception-12-04-2015-933
END:VEVENT

END:VCALENDAR
