BEGIN:VCALENDAR
VERSION:2.0
PRODID:-//ChamberMaster//Event Calendar 2.0//EN
METHOD:PUBLISH
X-PUBLISHED-TTL:P3D
REFRESH-INTERVAL:P3D
CALSCALE:GREGORIAN
BEGIN:VEVENT
DTSTART:20171121T003000Z
DTEND:20171121T020000Z
X-MICROSOFT-CDO-ALLDAYEVENT:FALSE
SUMMARY:Transgender Day of Remembrance Candlelight Vigil
DESCRIPTION:LGBT of Walworth County will be sponsoring the second annual Candlelight Vigil for the Transgender Day of Remembrance.  It will be held on November 20th at 6:30 p.m. in downtown Elkhorn at the old courthouse square (corner of Walworth and Wisconsin at the main stop lights).  Candles will be provided.  A presentation with refreshments will follow at the UCC Church at 76 S. Wisconsin St.  For additional details go to www.lgbtwalco.org
X-ALT-DESC;FMTTYPE=text/html:LGBT of Walworth County will be sponsoring the second annual Candlelight Vigil for the Transgender Day of Remembrance.&nbsp\; It will be held on November 20th at 6:30 p.m. in downtown Elkhorn at the old courthouse square (corner of Walworth and Wisconsin at the main stop lights).&nbsp\; Candles will be provided.&nbsp\; A presentation with refreshments will follow at the UCC Church at 76 S. Wisconsin St.&nbsp\; For additional details go to www.lgbtwalco.org
LOCATION:Downtown Elkhorn at the old courthouse square (corner of Walworth and Wisconsin at the main stoplights
UID:e.2059.1747
SEQUENCE:3
DTSTAMP:20260422T183504Z
URL:https://business.elkhornchamber.com/events/details/transgender-day-of-remembrance-candlelight-vigil-11-20-2017-1747
END:VEVENT

END:VCALENDAR
