BEGIN:VCALENDAR
VERSION:2.0
PRODID:-//ChamberMaster//Event Calendar 2.0//EN
METHOD:PUBLISH
X-PUBLISHED-TTL:P3D
REFRESH-INTERVAL:P3D
CALSCALE:GREGORIAN
BEGIN:VEVENT
DTSTART:20161120T200000Z
DTEND:20161120T220000Z
X-MICROSOFT-CDO-ALLDAYEVENT:FALSE
SUMMARY:Transgender Day of Remembrance
DESCRIPTION:There will be a Candlelight Vigil in memory of the hundreds of transgender individuals slain every year on November 20th\, at the Chamber of Commerce Building\, 203 E. Walworth St.\, Elkhorn WI from 2:00-4:00 p.m. There will be a presentation with refreshments to follow. Candles will be provided. There is no charge for this event.
X-ALT-DESC;FMTTYPE=text/html:There will be a Candlelight Vigil in memory of the hundreds of transgender individuals slain every year on November 20th\, at the Chamber of Commerce Building\, 203 E. Walworth St.\, Elkhorn WI from 2:00-4:00 p.m. There will be a presentation with refreshments to follow. Candles will be provided. There is no charge for this event.
LOCATION:Chamber of Commerce Building\, 203 E. Walworth St. Elkhorn\, WI 53121
UID:e.2059.4573
SEQUENCE:3
DTSTAMP:20260423T153731Z
URL:https://business.elkhornchamber.com/events/details/transgender-day-of-remembrance-4573
END:VEVENT

END:VCALENDAR
