BEGIN:VCALENDAR
VERSION:2.0
PRODID:-//ChamberMaster//Event Calendar 2.0//EN
METHOD:PUBLISH
X-PUBLISHED-TTL:P3D
REFRESH-INTERVAL:P3D
CALSCALE:GREGORIAN
BEGIN:VEVENT
DTSTART:20171121T000000Z
DTEND:20171121T020000Z
X-MICROSOFT-CDO-ALLDAYEVENT:FALSE
SUMMARY:Transgender Day of Remembrance
DESCRIPTION:The Transgender Day of Remembrance will have a candlelight vigil in memory of transgender people who have died in the past year. Included in the service will be a screening of a new film: The Death and Life of Marsha P. Johnson. This event is sponsored by LGBT of Walworth County.
X-ALT-DESC;FMTTYPE=text/html:The Transgender Day of Remembrance will have a candlelight vigil in memory of transgender people who have died in the past year. Included in the service will be a screening of a new film: The Death and Life of Marsha P. Johnson. This event is sponsored by LGBT of Walworth County.
LOCATION:Elkhorn Chamber of Commerce Building 203 E. Walworth St. Elkhorn WI
UID:e.2059.7289
SEQUENCE:3
DTSTAMP:20260422T183336Z
URL:https://business.elkhornchamber.com/events/details/transgender-day-of-remembrance-11-20-2017-7289
END:VEVENT

END:VCALENDAR
