BEGIN:VCALENDAR
VERSION:2.0
PRODID:-//ChamberMaster//Event Calendar 2.0//EN
METHOD:PUBLISH
X-PUBLISHED-TTL:P3D
REFRESH-INTERVAL:P3D
CALSCALE:GREGORIAN
BEGIN:VEVENT
DTSTART;VALUE=DATE:20181201
DTEND;VALUE=DATE:20181203
TRANSP:TRANSPARENT
X-MICROSOFT-CDO-ALLDAYEVENT:TRUE
SUMMARY:"Toy Camp" Children's holiday musical
DESCRIPTION:"Toy Camp" a Children's holiday musical performed by Lakeland Players.
X-ALT-DESC;FMTTYPE=text/html:&quot\;Toy Camp&quot\; a Children&#39\;s holiday musical performed by Lakeland Players.
LOCATION:15 W. Walworth Street Elkhorn\,WI 53121
UID:e.2059.8687
SEQUENCE:3
DTSTAMP:20260421T204734Z
URL:https://business.elkhornchamber.com/events/details/toy-camp-children-s-holiday-musical-8687
END:VEVENT

END:VCALENDAR
