BEGIN:VCALENDAR
VERSION:2.0
PRODID:-//ChamberMaster//Event Calendar 2.0//EN
METHOD:PUBLISH
X-PUBLISHED-TTL:P3D
REFRESH-INTERVAL:P3D
CALSCALE:GREGORIAN
BEGIN:VEVENT
DTSTART;VALUE=DATE:20181124
DTEND;VALUE=DATE:20181126
TRANSP:TRANSPARENT
X-MICROSOFT-CDO-ALLDAYEVENT:TRUE
SUMMARY:Toy Camp ~ Children's Holiday Musical
DESCRIPTION:"Toy Camp" a children's holiday musical performed by Lakeland Players. More information to come.
X-ALT-DESC;FMTTYPE=text/html:&quot\;Toy Camp&quot\; a children&#39\;s holiday musical performed by Lakeland Players. More information to come.
LOCATION:15 W Walworth St\, Elkhorn WI 53121
UID:e.2059.8686
SEQUENCE:3
DTSTAMP:20260421T224032Z
URL:https://business.elkhornchamber.com/events/details/toy-camp-children-s-holiday-musical-8686
END:VEVENT

END:VCALENDAR
