BEGIN:VCALENDAR
VERSION:2.0
PRODID:-//ChamberMaster//Event Calendar 2.0//EN
METHOD:PUBLISH
X-PUBLISHED-TTL:P3D
REFRESH-INTERVAL:P3D
CALSCALE:GREGORIAN
BEGIN:VEVENT
DTSTART:20170218T163000Z
DTEND:20170218T180000Z
X-MICROSOFT-CDO-ALLDAYEVENT:FALSE
SUMMARY:Too Many\, Too Few\, What's Best for You? With Kathi Miller
DESCRIPTION:Join author and professional organization coach Kathi Miller for her newest program to help you organize your belongings. Using her Magic Numbers system\, she'll show you what to keep\, and what to let go of.
X-ALT-DESC;FMTTYPE=text/html:Join author and professional organization coach Kathi Miller for her newest program to help you organize your belongings. Using her Magic Numbers system\, she&#39\;ll show you what to keep\, and what to let go of.&nbsp\;
LOCATION:
UID:e.2059.4635
SEQUENCE:3
DTSTAMP:20260423T112423Z
URL:https://business.elkhornchamber.com/events/details/too-many-too-few-what-s-best-for-you-with-kathi-miller-4635
END:VEVENT

END:VCALENDAR
