BEGIN:VCALENDAR
VERSION:2.0
PRODID:-//ChamberMaster//Event Calendar 2.0//EN
METHOD:PUBLISH
X-PUBLISHED-TTL:P3D
REFRESH-INTERVAL:P3D
CALSCALE:GREGORIAN
BEGIN:VEVENT
DTSTART:20190507T150000Z
DTEND:20190507T163000Z
X-MICROSOFT-CDO-ALLDAYEVENT:FALSE
SUMMARY:Toddler Party: Whoo! Whoo! Whoo!
DESCRIPTION:Whoo's ready for spring? Join Ms. Pattie for a special toddler party with crafts\, treats\, and more.\n\nTarget audience is children ages 18 to 36 months and their caregivers\, but all ages and abilities are welcome.
X-ALT-DESC;FMTTYPE=text/html:<span style="background-color:transparent\; color:rgb(0\, 0\, 0)\; font-family:arial\; font-size:11pt">Whoo&rsquo\;s ready for spring? Join Ms. Pattie for a special toddler party with crafts\, treats\, and more.<br />\nTarget audience is children ages 18 to 36 months and their caregivers\, but all ages and abilities are welcome.</span>
LOCATION:Matheson Memorial Library
UID:e.2059.10697
SEQUENCE:3
DTSTAMP:20260421T135130Z
URL:https://business.elkhornchamber.com/events/details/toddler-party-whoo-whoo-whoo-10697
END:VEVENT

END:VCALENDAR
