BEGIN:VCALENDAR
VERSION:2.0
PRODID:-//ChamberMaster//Event Calendar 2.0//EN
METHOD:PUBLISH
X-PUBLISHED-TTL:P3D
REFRESH-INTERVAL:P3D
CALSCALE:GREGORIAN
BEGIN:VEVENT
DTSTART:20181113T160000Z
DTEND:20181113T173000Z
X-MICROSOFT-CDO-ALLDAYEVENT:FALSE
SUMMARY:Toddler Holiday Craft Extravaganza
DESCRIPTION:Ages 0-5 and their families are invited to a seasonal crafting event with Ms. Pattie!
X-ALT-DESC;FMTTYPE=text/html:<span style="color:rgb(0\, 0\, 0)\; font-family:arial\; font-size:14.6667px">Ages 0-5 and their families are invited to a seasonal crafting event with Ms. Pattie!</span>
LOCATION:Matheson Memorial Library
UID:e.2059.9567
SEQUENCE:3
DTSTAMP:20260422T001950Z
URL:https://business.elkhornchamber.com/events/details/toddler-holiday-craft-extravaganza-9567
END:VEVENT

END:VCALENDAR
