BEGIN:VCALENDAR
VERSION:2.0
PRODID:-//ChamberMaster//Event Calendar 2.0//EN
METHOD:PUBLISH
X-PUBLISHED-TTL:P3D
REFRESH-INTERVAL:P3D
CALSCALE:GREGORIAN
BEGIN:VEVENT
DTSTART:20151005T140000Z
DTEND:20151005T150000Z
X-MICROSOFT-CDO-ALLDAYEVENT:FALSE
SUMMARY:Tiny Tot Bible Storytime
DESCRIPTION:Bible story time\, craft and snack for toddlers up to 4K every Monday
X-ALT-DESC;FMTTYPE=text/html:Bible story time\, craft and snack for toddlers up to 4K every Monday
LOCATION:Elkhorn First UMC 111 Broad St\, Elkhorn
UID:e.2059.1701
SEQUENCE:3
DTSTAMP:20260424T141527Z
URL:https://business.elkhornchamber.com/events/details/tiny-tot-bible-storytime-10-05-2015-1701
END:VEVENT

END:VCALENDAR
