BEGIN:VCALENDAR
VERSION:2.0
PRODID:-//ChamberMaster//Event Calendar 2.0//EN
METHOD:PUBLISH
X-PUBLISHED-TTL:P3D
REFRESH-INTERVAL:P3D
CALSCALE:GREGORIAN
BEGIN:VEVENT
DTSTART:20150921T140000Z
DTEND:20150921T150000Z
X-MICROSOFT-CDO-ALLDAYEVENT:FALSE
SUMMARY:Tiny Tot Bible Storytime
DESCRIPTION:Bible story time\, craft and snack for toddlers up to 4K every Monday
X-ALT-DESC;FMTTYPE=text/html:Bible story time\, craft and snack for toddlers up to 4K every Monday
LOCATION:Elkhorn First UMC 111 Broad St\, Elkhorn
UID:e.2059.1699
SEQUENCE:3
DTSTAMP:20260424T141527Z
URL:https://business.elkhornchamber.com/events/details/tiny-tot-bible-storytime-09-21-2015-1699
END:VEVENT

END:VCALENDAR
