BEGIN:VCALENDAR
VERSION:2.0
PRODID:-//ChamberMaster//Event Calendar 2.0//EN
METHOD:PUBLISH
X-PUBLISHED-TTL:P3D
REFRESH-INTERVAL:P3D
CALSCALE:GREGORIAN
BEGIN:VEVENT
DTSTART:20180913T230000Z
DTEND:20180913T230000Z
X-MICROSOFT-CDO-ALLDAYEVENT:FALSE
SUMMARY:Thursday 2 Person Mixed Golf League - Evergreen Golf CLub
DESCRIPTION:Thursday 2 person league\n\nMen's\, Women's & Mixed Teams welcome\n\n \n\n  5pm shotgun start\, 9 holes\, Best Ball format\n\n  May 10 - September 13\, 2018\n\n  First week complimentary  appetizers after golf... May 10th\n\n Two person teams (Men\, Women or Mixed) with 80% handicap as determined by play during first three weeks.\n\n $25 weekly green & cart fee (a $5 savings)...or you can use your membership.\n\nYearly Memberships start at $899\n\n  One time $40 per person league fee for weekly Pro Shop Credit prizes\n\n...100% payout.\n\n  $3 weekly fee for cash prizes such as skins\, closest to hole\, etc.\n\n  Drink specials after league play\n\n \n\nSign up in the Pro Shop or contact \n\nJason Engels at 262-723-5722
X-ALT-DESC;FMTTYPE=text/html:<p class="font_8" style="margin: 0px\; padding: 0px\; border: 0px\; outline: 0px\; vertical-align: baseline\; background: 0px 0px\; font-variant-numeric: normal\; font-variant-east-asian: normal\; font-stretch: normal\; font-size: 20px\; line-height: normal\; font-family: din-next-w01-light\, din-next-w02-light\, din-next-w10-light\, sans-serif\; color: rgb(96\, 94\, 94)\; pointer-events: auto\; text-align: center\;"><span style="margin: 0px\; padding: 0px\; border: 0px\; outline: 0px\; vertical-align: baseline\; background: 0px 0px\; text-shadow: rgba(0\, 0\, 0\, 0.4) 0px 4px 5px\;"><span style="margin: 0px\; padding: 0px\; border: 0px\; outline: 0px\; vertical-align: baseline\; background: 0px 0px\; font-style: italic\;"><span style="margin: 0px\; padding: 0px\; border: 0px\; outline: 0px\; vertical-align: baseline\; background: 0px 0px\;"><span style="margin: 0px\; padding: 0px\; border: 0px\; outline: 0px\; vertical-align: baseline\; background: 0px 0px\; font-weight: bold\;">Thursday 2 person league<br />\nMen&#39\;s\, Women&#39\;s &amp\; Mixed Teams welcome</span></span></span></span></p>\n\n<p class="font_8" style="margin: 0px\; padding: 0px\; border: 0px\; outline: 0px\; vertical-align: baseline\; background: 0px 0px\; font-variant-numeric: normal\; font-variant-east-asian: normal\; font-stretch: normal\; font-size: 15px\; line-height: normal\; font-family: din-next-w01-light\, din-next-w02-light\, din-next-w10-light\, sans-serif\; color: rgb(96\, 94\, 94)\; pointer-events: auto\; text-align: center\;"><span style="margin: 0px\; padding: 0px\; border: 0px\; outline: 0px\; vertical-align: baseline\; background: 0px 0px\; font-weight: bold\;">&#8203\;</span></p>\n\n<p class="font_8" style="margin: 0px\; padding: 0px\; border: 0px\; outline: 0px\; vertical-align: baseline\; background: 0px 0px\; font-variant-numeric: normal\; font-variant-east-asian: normal\; font-stretch: normal\; font-size: 15px\; line-height: normal\; font-family: din-next-w01-light\, din-next-w02-light\, din-next-w10-light\, sans-serif\; color: rgb(96\, 94\, 94)\; pointer-events: auto\; text-align: center\;">&bull\;&nbsp\;5pm shotgun start\, 9 holes\, Best Ball format<br />\n&bull\;&nbsp\;May 10 - September 13\, 2018<br />\n&bull\; First week complimentary &nbsp\;appetizers after golf... May 10th<br />\n&bull\;Two person teams (Men\, Women or Mixed) with 80% handicap as determined by play during first three weeks.<br />\n&bull\;$25 weekly green &amp\; cart fee (a $5 savings)...or you can use your membership.<br />\nYearly Memberships start at $899<br />\n&bull\; One time $40 per person league fee for weekly Pro Shop Credit prizes<br />\n...100% payout.<br />\n&bull\;&nbsp\;$3 weekly fee for cash prizes such as skins\, closest to hole\, etc.<br />\n&bull\; Drink specials after league play</p>\n\n<p class="font_8" style="margin: 0px\; padding: 0px\; border: 0px\; outline: 0px\; vertical-align: baseline\; background: 0px 0px\; font-variant-numeric: normal\; font-variant-east-asian: normal\; font-stretch: normal\; font-size: 15px\; line-height: normal\; font-family: din-next-w01-light\, din-next-w02-light\, din-next-w10-light\, sans-serif\; color: rgb(96\, 94\, 94)\; pointer-events: auto\; text-align: center\;"><span class="wixGuard" style="margin: 0px\; padding: 0px\; border: 0px\; outline: 0px\; vertical-align: baseline\; background: 0px 0px\;">&#8203\;</span></p>\n\n<p class="font_8" style="margin: 0px\; padding: 0px\; border: 0px\; outline: 0px\; vertical-align: baseline\; background: 0px 0px\; font-variant-numeric: normal\; font-variant-east-asian: normal\; font-stretch: normal\; font-size: 15px\; line-height: normal\; font-family: din-next-w01-light\, din-next-w02-light\, din-next-w10-light\, sans-serif\; color: rgb(96\, 94\, 94)\; pointer-events: auto\; text-align: center\;">Sign up in the Pro Shop or&nbsp\;contact&nbsp\;<br />\nJason Engels at&nbsp\;<span style="margin: 0px\; padding: 0px\; border: 0px\; outline: 0px\; vertical-align: baseline\; background: 0px 0px\; text-decoration-line: underline\;"><a data-content="262-723-5722" data-type="phone" href="tel:262-723-5722" style="margin: 0px\; padding: 0px\; border: 0px\; outline: 0px\; vertical-align: baseline\; background: 0px 0px\; cursor: pointer\; text-decoration-line: none\; color: inherit\;">262-723-5722</a></span></p>\n
LOCATION:Evergreen Country Club\, N6246 US-12\, Elkhorn\, WI 53121
UID:e.2059.9260
SEQUENCE:3
DTSTAMP:20260422T021519Z
URL:https://business.elkhornchamber.com/events/details/thursday-2-person-mixed-golf-league-evergreen-golf-club-09-13-2018-9260
END:VEVENT

END:VCALENDAR
