BEGIN:VCALENDAR
VERSION:2.0
PRODID:-//ChamberMaster//Event Calendar 2.0//EN
METHOD:PUBLISH
X-PUBLISHED-TTL:P3D
REFRESH-INTERVAL:P3D
CALSCALE:GREGORIAN
BEGIN:VEVENT
DTSTART:20180621T210000Z
DTEND:20180622T010000Z
X-MICROSOFT-CDO-ALLDAYEVENT:FALSE
SUMMARY:Thrivent Financials Annual Summer Party
DESCRIPTION:Join us for Thrivent Financial's Annual Summer Party! Come celebrate the first day of Summer! Fun for the whole fam!
X-ALT-DESC;FMTTYPE=text/html:Join us for Thrivent Financial&#39\;s Annual Summer Party! Come celebrate the first day of Summer! Fun for the whole fam!
LOCATION:1421 Racine Street Suite G Delavan\, WI
UID:e.2059.9055
SEQUENCE:3
DTSTAMP:20260422T085652Z
URL:https://business.elkhornchamber.com/events/details/thrivent-financials-annual-summer-party-9055
END:VEVENT

END:VCALENDAR
