BEGIN:VCALENDAR
VERSION:2.0
PRODID:-//ChamberMaster//Event Calendar 2.0//EN
METHOD:PUBLISH
X-PUBLISHED-TTL:P3D
REFRESH-INTERVAL:P3D
CALSCALE:GREGORIAN
BEGIN:VEVENT
DTSTART:20171129T000000Z
DTEND:20171129T000000Z
X-MICROSOFT-CDO-ALLDAYEVENT:FALSE
SUMMARY:Thrivent Financial Retire Wisely
DESCRIPTION:Join us for a presentation brought to you by Thrivent Financial\, a not-for profit membership organization of Christians. While many financial firms see money as a goal\, we see it as a tool to help the people. causes and communities you hold close to your heart.\n\nEvent Details:\n\nHosted by Thrivent Financial Representatives: Kate Abbe & Joshua Duesterbeck\n\nRetire Wisely: 47% of Americans age 56 to 62 could run out of funds to pay for basic retirement expenses if they were to retire at age 65.\n\n	Will you have enough to retire?\n	Will your retirement income last?\n	Are your assets protected?\n\nPlease RSVP to reserve your spot. Contact Kaela Frenzel at 262-740-9040 or email kaela.frenzel@thrivent.com\n\nRefreshments will be served.
X-ALT-DESC;FMTTYPE=text/html:Join us for a presentation brought to you by Thrivent Financial\, a not-for profit membership organization of Christians. While many financial firms see money as a goal\, we see it as a tool to help the people. causes and communities you hold close to your heart.<br />\nEvent Details:<br />\nHosted by Thrivent Financial Representatives: Kate Abbe &amp\; Joshua Duesterbeck<br />\nRetire Wisely: 47% of Americans age 56 to 62 could run out of funds to pay for basic retirement expenses if they were to retire at age 65.\n<ul>\n	<li>Will you have enough to retire?</li>\n	<li>Will your retirement income last?</li>\n	<li>Are your assets protected?</li>\n</ul>\nPlease RSVP to reserve your spot. Contact Kaela Frenzel at 262-740-9040 or email kaela.frenzel@thrivent.com<br />\nRefreshments will be served.<br />\n<br />\n&nbsp\;
LOCATION:Community United Methodist Church 455 S. Jefferson Street Waterford\, WI
UID:e.2059.7332
SEQUENCE:3
DTSTAMP:20260422T182522Z
URL:https://business.elkhornchamber.com/events/details/thrivent-financial-retire-wisely-7332
END:VEVENT

END:VCALENDAR
