BEGIN:VCALENDAR
VERSION:2.0
PRODID:-//ChamberMaster//Event Calendar 2.0//EN
METHOD:PUBLISH
X-PUBLISHED-TTL:P3D
REFRESH-INTERVAL:P3D
CALSCALE:GREGORIAN
BEGIN:VEVENT
DTSTART:20190313T003000Z
DTEND:20190313T040000Z
X-MICROSOFT-CDO-ALLDAYEVENT:FALSE
SUMMARY:The Winter's Tale - American Shakespeare Center
DESCRIPTION:Shakespeare's magnificent late play is a roller-coaster ride from romance to tragedy to comedy and finally to a place of transcendent beauty that few other works of art have ever gone. "A sad tale's best for winter\," but after unleashing a wintry tempest onto his characters\, Shakespeare ultimately conjures spring's miraculous rebirth. Watch as the American Shakespeare Center blends renaissance era stage craft with modern sensibility\, giving today's audiences a true taste of a Shakespearean theatre-going experience.
X-ALT-DESC;FMTTYPE=text/html:<span style="color: rgb(102\, 102\, 102)\; font-family: &quot\;PT Sans&quot\;\, sans-serif\; font-size: 16px\;">Shakespeare&#39\;s magnificent late play is a roller-coaster ride from romance to tragedy to comedy and finally to a place of transcendent beauty that few other works of art have ever gone. &quot\;A sad tale&#39\;s best for winter\,&quot\; but after unleashing a wintry tempest onto his characters\, Shakespeare ultimately conjures spring&#39\;s miraculous rebirth. Watch as the American Shakespeare Center blends renaissance era stage craft with modern sensibility\,&nbsp\;giving today&rsquo\;s audiences a true taste of a Shakespearean theatre-going experience.</span>
LOCATION:Young Auditorium 930 W. Main Street Whitewater\, WI 53190
UID:e.2059.10195
SEQUENCE:3
DTSTAMP:20260421T154915Z
URL:https://business.elkhornchamber.com/events/details/the-winter-s-tale-american-shakespeare-center-10195
END:VEVENT

END:VCALENDAR
