BEGIN:VCALENDAR
VERSION:2.0
PRODID:-//ChamberMaster//Event Calendar 2.0//EN
METHOD:PUBLISH
X-PUBLISHED-TTL:P3D
REFRESH-INTERVAL:P3D
CALSCALE:GREGORIAN
BEGIN:VEVENT
DTSTART:20190313T233000Z
DTEND:20190314T010000Z
X-MICROSOFT-CDO-ALLDAYEVENT:FALSE
SUMMARY:The Value of a Book
DESCRIPTION:Join Professor Andrew McLean\, academic\, antiquarian\, and professional book dealer\, as he discusses the many factors that determine the value of old books. Learn things to look for when deciding what to do with old books you've been holding on to! Time permitting\, Professor McLean will look at books that program attendees bring in to offer an informal appraisal.
X-ALT-DESC;FMTTYPE=text/html:Join Professor Andrew McLean\, academic\, antiquarian\, and professional book dealer\, as he discusses the many factors that determine the value of old books. Learn things to look for when deciding what to do with old books you&rsquo\;ve been holding on to! Time permitting\, Professor McLean will look at books that program attendees bring in to offer an informal appraisal.
LOCATION:Matheson Memorial Library
UID:e.2059.10367
SEQUENCE:3
DTSTAMP:20260421T154455Z
URL:https://business.elkhornchamber.com/events/details/the-value-of-a-book-10367
END:VEVENT

END:VCALENDAR
