BEGIN:VCALENDAR
VERSION:2.0
PRODID:-//ChamberMaster//Event Calendar 2.0//EN
METHOD:PUBLISH
X-PUBLISHED-TTL:P3D
REFRESH-INTERVAL:P3D
CALSCALE:GREGORIAN
BEGIN:VEVENT
DTSTART:20190127T210000Z
DTEND:20190127T230000Z
X-MICROSOFT-CDO-ALLDAYEVENT:FALSE
SUMMARY:The Three Little Pigs -Florentine Opera Company
DESCRIPTION:The Florentine Opera presents this amazing children's opera based on the classic children's tale The Three Little Pigs. Seating for this performance is directly on the stage\, giving children a unique\, up-close perspective.
X-ALT-DESC;FMTTYPE=text/html:<span style="color: rgb(102\, 102\, 102)\; font-family: &quot\;PT Sans&quot\;\, sans-serif\; font-size: 16px\;">The Florentine Opera presents this amazing children&#39\;s opera based on the classic children&#39\;s tale The Three Little Pigs. Seating for this performance is directly on the stage\, giving children a unique\, up-close perspective.</span>
LOCATION:Young Auditorium 930 W. Main Street Whitewater\, WI 53190
UID:e.2059.10190
SEQUENCE:3
DTSTAMP:20260421T190035Z
URL:https://business.elkhornchamber.com/events/details/the-three-little-pigs-florentine-opera-company-10190
END:VEVENT

END:VCALENDAR
