BEGIN:VCALENDAR
VERSION:2.0
PRODID:-//ChamberMaster//Event Calendar 2.0//EN
METHOD:PUBLISH
X-PUBLISHED-TTL:P3D
REFRESH-INTERVAL:P3D
CALSCALE:GREGORIAN
BEGIN:VEVENT
DTSTART:20191119T143000Z
DTEND:20191119T160000Z
X-MICROSOFT-CDO-ALLDAYEVENT:FALSE
SUMMARY:The three dimensions of a healthy work culture
DESCRIPTION:Please join us on Tuesday\, November 19th at 8:30 - 10:00 am at Geneva National Resort to learn about the importance of workplace health through the focus on individual employee mental\, physical and spiritual health.This event is a collaborative effort between area chambers and WCEDA\, free to Partner members\, $10 for non-partners.
X-ALT-DESC;FMTTYPE=text/html:Please join us on Tuesday\, November 19th at 8:30 - 10:00 am at Geneva National Resort to learn about the importance of workplace health through the focus on individual employee mental\, physical and spiritual health.This event is a collaborative effort between area chambers and WCEDA\, free to Partner members\, $10 for non-partners.&nbsp\;
LOCATION:Geneva National Resort 1221 Geneva National Ave. S Lake Geneva\, WI 53147
UID:e.2059.11237
SEQUENCE:3
DTSTAMP:20260420T055545Z
URL:https://business.elkhornchamber.com/events/details/the-three-dimensions-of-a-healthy-work-culture-11237
END:VEVENT

END:VCALENDAR
