BEGIN:VCALENDAR
VERSION:2.0
PRODID:-//ChamberMaster//Event Calendar 2.0//EN
METHOD:PUBLISH
X-PUBLISHED-TTL:P3D
REFRESH-INTERVAL:P3D
CALSCALE:GREGORIAN
BEGIN:VEVENT
DTSTART:20151031T003000Z
DTEND:20151031T170000Z
X-MICROSOFT-CDO-ALLDAYEVENT:FALSE
SUMMARY:The Rocky Horror Show
DESCRIPTION:Lakeland Platers Ltd. presents the hit musical.. The Rocky Horrow Show. All performances start at 7:30pm. Please no carry in "prop bags" allowed\, there will be Prop bags sold at the theater for $5. WARNING: Mature Audiences Only~ No exchanges or refunds. No reserved seating. Come and enjoy the show directed and choreographed by David Whitney.
X-ALT-DESC;FMTTYPE=text/html:Lakeland Platers Ltd. presents the hit musical.. The Rocky Horrow Show. All performances start at 7:30pm. Please no carry in &quot\;prop bags&quot\; allowed\, there will be Prop bags sold at the theater for $5. WARNING: Mature Audiences Only~ No exchanges or refunds. No reserved seating. Come and enjoy the show directed and choreographed by David Whitney.
LOCATION:Walworth County Performing Arts Center 15 W. Walworth St\, Elkhorn Wi
UID:e.2059.1709
SEQUENCE:3
DTSTAMP:20260424T124125Z
URL:https://business.elkhornchamber.com/events/details/the-rocky-horror-show-10-30-2015-1709
END:VEVENT

END:VCALENDAR
