BEGIN:VCALENDAR
VERSION:2.0
PRODID:-//ChamberMaster//Event Calendar 2.0//EN
METHOD:PUBLISH
X-PUBLISHED-TTL:P3D
REFRESH-INTERVAL:P3D
CALSCALE:GREGORIAN
BEGIN:VEVENT
DTSTART:20180406T220000Z
DTEND:20180408T030000Z
X-MICROSOFT-CDO-ALLDAYEVENT:FALSE
SUMMARY:The Pre-Launch of Jack Rabbit Fizz
DESCRIPTION:You and a Guest are Invited to Join us for cocktails & Hors d'oeuvres to Critique\, Give reflection\, collaborate at The Pre-Launch of Jack Rabbit Fizz ( A cocktail bar)\n\nComplimentary hors d'oeuvres at 6pm & A Cocktail for two\n\nLimited Capacity so please RSVP to 262-723-1977 or Email: jackrabbitfizz@gmail.com
X-ALT-DESC;FMTTYPE=text/html:You and a Guest are Invited to Join us for cocktails &amp\; Hors d&#39\;oeuvres to Critique\, Give reflection\, collaborate at The Pre-Launch of Jack Rabbit Fizz ( A cocktail bar)<br />\nComplimentary hors d&#39\;oeuvres at 6pm &amp\; A Cocktail for two<br />\nLimited Capacity so please RSVP to 262-723-1977 or Email: jackrabbitfizz@gmail.com
LOCATION:Jack Rabbit Fizz 11 East Walworth Street Elkhorn\, WI
UID:e.2059.8682
SEQUENCE:3
DTSTAMP:20260422T102938Z
URL:https://business.elkhornchamber.com/events/details/the-pre-launch-of-jack-rabbit-fizz-8682
END:VEVENT

END:VCALENDAR
