BEGIN:VCALENDAR
VERSION:2.0
PRODID:-//ChamberMaster//Event Calendar 2.0//EN
METHOD:PUBLISH
X-PUBLISHED-TTL:P3D
REFRESH-INTERVAL:P3D
CALSCALE:GREGORIAN
BEGIN:VEVENT
DTSTART:20190214T013000Z
DTEND:20190214T050000Z
X-MICROSOFT-CDO-ALLDAYEVENT:FALSE
SUMMARY:The OK Factor at the Young Auditorium
DESCRIPTION:Cultural Affairs Presents Bramblett Cahmber Series - Olivia Diercks and Karla Colahan\, cellist and violinist of The OK Factor\, are passionate about composing\, performing\, and teaching\, creating unique and unexpected musical experiences for their audiences First catching the attention of Minnesota Public Radio\, their original music features a new-classical crossover style that feels organic and fun\, with their instruments serving as vehicles for creative and innovative musical thinking. Catch these performers on the rise!
X-ALT-DESC;FMTTYPE=text/html:<em style="box-sizing: border-box\; color: rgb(102\, 102\, 102)\; font-family: &quot\;PT Sans&quot\;\, sans-serif\; font-size: 16px\;">Cultural Affairs Presents Bramblett Cahmber Series</em><span style="color: rgb(102\, 102\, 102)\; font-family: &quot\;PT Sans&quot\;\, sans-serif\; font-size: 16px\;">&nbsp\;- Olivia Diercks and Karla Colahan\,&nbsp\;cellist and violinist of The OK Factor\, are passionate about composing\, performing\, and&nbsp\;teaching\, creating unique and unexpected musical experiences for their audiences&nbsp\;First catching the attention of Minnesota Public Radio\, their original music features a new-classical crossover style that feels organic and fun\, with their instruments serving as vehicles for creative and innovative musical thinking. Catch these performers on the rise!</span>
LOCATION:Young Auditorium 930 W. Main Street Whitewater\, WI 53190
UID:e.2059.10192
SEQUENCE:3
DTSTAMP:20260421T171328Z
URL:https://business.elkhornchamber.com/events/details/the-ok-factor-at-the-young-auditorium-10192
END:VEVENT

END:VCALENDAR
