BEGIN:VCALENDAR
VERSION:2.0
PRODID:-//ChamberMaster//Event Calendar 2.0//EN
METHOD:PUBLISH
X-PUBLISHED-TTL:P3D
REFRESH-INTERVAL:P3D
CALSCALE:GREGORIAN
BEGIN:VEVENT
DTSTART:20151220T010000Z
DTEND:20151220T030000Z
X-MICROSOFT-CDO-ALLDAYEVENT:FALSE
SUMMARY:The Nutcracker Ballet (The Dance Factory)
DESCRIPTION:Warm memories often begin with holiday traditions\, and Tchaikovsky?s most famous ballet\, The Nutcracker\, is performed annually at Young Auditorium by accomplished dancers from The Dance Factory. This delightful production features talented area youth\, gorgeous costumes\, lavish backdrops\, and talented dancers. The Nutcracker ballet is based on the story ?The Nutcracker and the King of Mice? written by E.T.A. Hoffman. It?s the story of a young German girl who dreams of a Nutcracker Prince and a fierce battle against a Mouse King. Enjoy this lively performance of the classic tale!
X-ALT-DESC;FMTTYPE=text/html:Warm memories often begin with holiday traditions\, and Tchaikovsky?s most famous ballet\, The Nutcracker\, is performed annually at Young Auditorium by accomplished dancers from The Dance Factory. This delightful production features talented area youth\, gorgeous costumes\, lavish backdrops\, and talented dancers. The Nutcracker ballet is based on the story ?The Nutcracker and the King of Mice? written by E.T.A. Hoffman. It?s the story of a young German girl who dreams of a Nutcracker Prince and a fierce battle against a Mouse King. Enjoy this lively performance of the classic tale!
LOCATION:Young Auditorium - 930 West Main Street\, Whitewater
UID:e.2059.1657
SEQUENCE:3
DTSTAMP:20260424T112306Z
URL:https://business.elkhornchamber.com/events/details/the-nutcracker-ballet-the-dance-factory-12-19-2015-1657
END:VEVENT

END:VCALENDAR
