BEGIN:VCALENDAR
VERSION:2.0
PRODID:-//ChamberMaster//Event Calendar 2.0//EN
METHOD:PUBLISH
X-PUBLISHED-TTL:P3D
REFRESH-INTERVAL:P3D
CALSCALE:GREGORIAN
BEGIN:VEVENT
DTSTART:20190317T003000Z
DTEND:20190317T044500Z
X-MICROSOFT-CDO-ALLDAYEVENT:FALSE
SUMMARY:The Lake Geneva Symphony Orchestra preforms Beethoven's 9th
DESCRIPTION:The Lake Geneva Symphony Orchestra culminates its nine-year "Beethoven Project" with a performance of the monumental Ninth Symphony\, complete with chorus and soloists. The LGSO launched its multi-year effort to perform one Beethoven symphony each season in 2010-11\, and is pleased to finish that journey at Young Auditorium with Beethoven's massive final symphony and celebration of joy.
X-ALT-DESC;FMTTYPE=text/html:<span style="color: rgb(102\, 102\, 102)\; font-family: &quot\;PT Sans&quot\;\, sans-serif\; font-size: 16px\;">The Lake Geneva Symphony Orchestra culminates its nine-year &quot\;Beethoven Project&quot\; with a performance of the monumental Ninth Symphony\, complete with chorus and soloists. The LGSO launched its multi-year effort to perform one Beethoven symphony each season in 2010-11\, and is pleased to finish that journey at Young Auditorium with Beethoven&#39\;s massive final symphony and celebration of joy.</span>
LOCATION:Young Auditorium 930 W. Main Street Whitewater\, WI 53190
UID:e.2059.10197
SEQUENCE:3
DTSTAMP:20260421T155447Z
URL:https://business.elkhornchamber.com/events/details/the-lake-geneva-symphony-orchestra-preforms-beethoven-s-9th-10197
END:VEVENT

END:VCALENDAR
