BEGIN:VCALENDAR
VERSION:2.0
PRODID:-//ChamberMaster//Event Calendar 2.0//EN
METHOD:PUBLISH
X-PUBLISHED-TTL:P3D
REFRESH-INTERVAL:P3D
CALSCALE:GREGORIAN
BEGIN:VEVENT
DTSTART:20160423T150000Z
DTEND:20160423T230000Z
X-MICROSOFT-CDO-ALLDAYEVENT:FALSE
SUMMARY:The Infinity Center- Grand Opening
DESCRIPTION:Please join The Infinity Center to celebrate our Grand Opening\, Saturday April 23rd from 10am to 6pm.\n\nWe will be offering sample services from our gifted practitioners including Chair massage\, Hot stone hand reflexology\, readings\, access bars- just to name a few!\n\nWe will also be having a silent auction on a gift basket\, Items and Services! Plus gift certificates to The Infinity Center good towards the services we provide. Proceeds from the silent auction will benefit the Lakeland Animal Shelter!\n\nPets are welcome!\n\nWe will be hosting a 2:00 seminar on Pet Reiki and Animal Communication. Due to space\, please RSVP for the Seminar to kristi@theinfinitycenter.net\n\n\n\nHope to see you there!
X-ALT-DESC;FMTTYPE=text/html:Please join The Infinity Center to celebrate our Grand Opening\, Saturday April 23rd from 10am to 6pm.<br />\nWe will be offering sample services from our gifted practitioners including Chair massage\, Hot stone hand reflexology\, readings\, access bars- just to name a few!<br />\nWe will also be having a silent auction on a gift basket\, Items and Services! Plus gift certificates to The Infinity Center good towards the services we provide. Proceeds from the silent auction will benefit the Lakeland Animal Shelter!<br />\nPets are welcome!<br />\nWe will be hosting a 2:00 seminar on Pet Reiki and Animal Communication. Due to space\, please RSVP for the Seminar to kristi@theinfinitycenter.net<br />\n<br />\nHope to see you there!
LOCATION:The Infinity Center 12 S. Wisconsin St Elkhorn\, WI
UID:e.2059.3438
SEQUENCE:3
DTSTAMP:20260424T045220Z
URL:https://business.elkhornchamber.com/events/details/the-infinity-center-grand-opening-04-23-2016-3438
END:VEVENT

END:VCALENDAR
