BEGIN:VCALENDAR
VERSION:2.0
PRODID:-//ChamberMaster//Event Calendar 2.0//EN
METHOD:PUBLISH
X-PUBLISHED-TTL:P3D
REFRESH-INTERVAL:P3D
CALSCALE:GREGORIAN
BEGIN:VEVENT
DTSTART:20180830T170000Z
DTEND:20180830T170000Z
X-MICROSOFT-CDO-ALLDAYEVENT:FALSE
SUMMARY:The Inaugural Burlington Catholic Athletics Golf Classic
DESCRIPTION:14 Basketball Teams. 11 Volleyball Teams. 54 Track Participants. 140+ Student Athletes and ZERO Burlington Catholic Uniforms. We unified our athletic programs at St. Charles and St. Mary to ensure everyone who WANTED to participate had the chance. At the onset\, we decided to use existing Chargers or Panther uniforms to dress the participants for the Inaugural Season. Some of the uniforms are as old as the athletes!\n\nOnce we have a name for our new unified school\, we want to be prepared to replace as many sport uniforms as financially possible. The volleyball ones are the uniforms in most desperate need of replacement. It can cost as much as $140 per student athlete to purchase a set of uniforms that will hold up.
X-ALT-DESC;FMTTYPE=text/html:14 Basketball Teams. 11 Volleyball Teams. 54 Track Participants. 140+ Student Athletes and ZERO Burlington Catholic Uniforms. We unified our athletic programs at St. Charles and St. Mary to ensure everyone who WANTED to participate had the chance. At the onset\, we decided to use existing Chargers or Panther uniforms to dress the participants for the Inaugural Season. Some of the uniforms are as old as the athletes!<br />\nOnce we have a name for our new unified school\, we want to be prepared to replace as many sport uniforms as financially possible. The volleyball ones are the uniforms in most desperate need of replacement. It can cost as much as $140 per student athlete to purchase a set of uniforms that will hold up.
LOCATION:Evergreen Country Club Elkhorn\, WI
UID:e.2059.8966
SEQUENCE:3
DTSTAMP:20260422T054815Z
URL:https://business.elkhornchamber.com/events/details/the-inaugural-burlington-catholic-athletics-golf-classic-8966
END:VEVENT

END:VCALENDAR
