BEGIN:VCALENDAR
VERSION:2.0
PRODID:-//ChamberMaster//Event Calendar 2.0//EN
METHOD:PUBLISH
X-PUBLISHED-TTL:P3D
REFRESH-INTERVAL:P3D
CALSCALE:GREGORIAN
BEGIN:VEVENT
DTSTART:20160304T013000Z
DTEND:20160304T033000Z
X-MICROSOFT-CDO-ALLDAYEVENT:FALSE
SUMMARY:The Hit Men
DESCRIPTION:This is not the cast from Jersey Boys. Not a Jersey Boys tribute show. Not a Frankie Valli and The Four Seasons cover band. Members of this amazing supergroup of musicians\, vocalists\, arrangers and composers actually WERE the Four Seasons who sang with Frankie Valli. They WERE the Shondells who sang with Tommy James. They ARE the authentic rock and rollers whose legacy includes hundreds of hit records from the 60s\, 70s and 80s. This brotherhood of musicians relive the magic they created on world stages and in recording studios years ago\, bringing audiences hit after hit ? including ?Oh What a Night\,? ?Big Girls Don?t Cry\,? ?Rag Doll? and more. And they perform many other memorable solid gold hits that they helped make famous. During their show\, The Hit Men also share great back stories and anecdotes from their days in recording studios and on the concert circuit.
X-ALT-DESC;FMTTYPE=text/html:This is not the cast from Jersey Boys. Not a Jersey Boys tribute show. Not a Frankie Valli and The Four Seasons cover band. Members of this amazing supergroup of musicians\, vocalists\, arrangers and composers actually WERE the Four Seasons who sang with Frankie Valli. They WERE the Shondells who sang with Tommy James. They ARE the authentic rock and rollers whose legacy includes hundreds of hit records from the 60s\, 70s and 80s. This brotherhood of musicians relive the magic they created on world stages and in recording studios years ago\, bringing audiences hit after hit ? including ?Oh What a Night\,? ?Big Girls Don?t Cry\,? ?Rag Doll? and more. And they perform many other memorable solid gold hits that they helped make famous. During their show\, The Hit Men also share great back stories and anecdotes from their days in recording studios and on the concert circuit.
LOCATION:Young Auditorium - 930 West Main Street\, Whitewater
UID:e.2059.1664
SEQUENCE:3
DTSTAMP:20260424T062354Z
URL:https://business.elkhornchamber.com/events/details/the-hit-men-03-03-2016-1664
END:VEVENT

END:VCALENDAR
