BEGIN:VCALENDAR
VERSION:2.0
PRODID:-//ChamberMaster//Event Calendar 2.0//EN
METHOD:PUBLISH
X-PUBLISHED-TTL:P3D
REFRESH-INTERVAL:P3D
CALSCALE:GREGORIAN
BEGIN:VEVENT
DTSTART:20190305T193000Z
DTEND:20190305T202000Z
X-MICROSOFT-CDO-ALLDAYEVENT:FALSE
SUMMARY:The Great War: Anti-German Hysteria and Conflict on the Home Front
DESCRIPTION:Given Wisconsin's large German-American population\, anti-German hysteria had a significant impact on our state. In commemoration of the 100th anniversary of the end of the war to end all wars\, this program will look at the national\, regional\, local and personal responses to the outbreak of war in 1914 and subsequent US involvement in 1917.\n\nPresentation by David Desimone\, director of Black Point Estate in Lake Geneva.
X-ALT-DESC;FMTTYPE=text/html:<p style="text-align:center">Given Wisconsin&#39\;s large German-American population\, anti-German hysteria had a significant impact on our state. In commemoration of the 100th anniversary of the end of the war to end all wars\, this program will look at the national\, regional\, local and personal responses to the outbreak of war in 1914 and subsequent US involvement in 1917.</p>\n\n<p style="text-align:center">Presentation by David Desimone\, director of Black Point Estate in Lake Geneva.</p>\n
LOCATION:Matheson Memorial Library
UID:e.2059.10379
SEQUENCE:3
DTSTAMP:20260421T155141Z
URL:https://business.elkhornchamber.com/events/details/the-great-war-anti-german-hysteria-and-conflict-on-the-home-front-10379
END:VEVENT

END:VCALENDAR
