BEGIN:VCALENDAR
VERSION:2.0
PRODID:-//ChamberMaster//Event Calendar 2.0//EN
METHOD:PUBLISH
X-PUBLISHED-TTL:P3D
REFRESH-INTERVAL:P3D
CALSCALE:GREGORIAN
BEGIN:VEVENT
DTSTART;VALUE=DATE:20160819
DTEND;VALUE=DATE:20160821
TRANSP:TRANSPARENT
X-MICROSOFT-CDO-ALLDAYEVENT:TRUE
SUMMARY:The Great Midwest Pro Rodeo
DESCRIPTION:The Great Midwest Pro Rodeo returns to Elkhorn on Friday & Saturday\, August 19th and 20th at the Walworth County Fairgrounds.  Performances are at 7PM daily.  There'll be non-stop action and excitement\, 7 championship rodeo events (Bareback Riding\, Steer Wrestling\, Team Roping\, Saddle Bronc Riding\, Tie Down Roping\, Cowgirls Barrel Racing and BULL RIDING!)  This year's featured entertainers include the Wild Together Trick &\n\nRoman Riders as well as hilarious rodeo clowns\, kid's games\, great music\, food & more.\n\n      Cowboys & cowgirls from throughout the United States and Canada will be competing for over $30\,000 in cash and prizes. Big Hat Rodeo Company will bring spectacular bucking horses and bulls and fun for the whole family.\n\n       Friday is "Family Night" so bring the kids to "Meet the Cowboys & Clowns" when the gates open at 5PM and you can get autographs and photos as well as take a chute tour and meet the animals stars of our show.  Kids get to meet and feed some miniature horses.\n\n      NEW for 2016 is the addition of a dance after both performances\, music by Chasin' Mason\, a beer garden and a VIP pit pass is available. The VIP ticket gets you access to the infield stage\, a visit with the cowboys\, refreshments and free score sheets.  These VIP passes are $15 for kids 5-11 and Seniors 65 & better and $25 for adults 12-64.  They are only available online at bighatrodeo.com or at our retail advance ticket locations.\n\nThe Great Midwest Pro Rodeo is the only annual fundraiser for the Memorial Rodeo Scholarship Fund. The Fund awards multiple scholarships to kids from across the US attending college full-time\, have a 3.0 GPA and are involved in the sport of rodeo in any way.  \n\n      Ticket Info:\n\nKids 4-under are FREE    Parking is FREE!\n\nKids 5-11 & Seniors 65 & Better are $8 in advance & $10 at the gate\n\nAdults 12-64 are $12 in advance/$15 at the gate\n\nVIP Pit passes: Kids 5-11 & Seniors 65 & Better are $15 Adults 12-64 are $25\n\nALL ADVANCE TICKET SALES END AT 3PM on THURSDAY\, AUGUST 18th \n\nAdvance Ticket Locations:  bighatrodeo.com\; Walworth County Fair office & Simon's Feed & Seed in Elkhorn and Copies & Prints Plus in Lake Geneva.\n\nFor more information go to bighatrodeo.com or call 815/648-1971.
X-ALT-DESC;FMTTYPE=text/html:&nbsp\;<br />\n<span style="font-family:cambria\,serif\;"><span style="font-size:12.0pt\;">&nbsp\; &nbsp\;&nbsp\;&nbsp\;The Great Midwest Pro Rodeo returns to Elkhorn on Friday &amp\; Saturday\, August 19<sup>th</sup> and 20<sup>th</sup> at the Walworth County Fairgrounds.&nbsp\; Performances are at 7PM daily.&nbsp\; There&rsquo\;ll be non-stop action and excitement\, 7 championship rodeo events (Bareback Riding\, Steer Wrestling\, Team Roping\, Saddle Bronc Riding\, Tie Down Roping\, Cowgirls Barrel Racing and <strong>BULL RIDING</strong>!)&nbsp\; This year&rsquo\;s featured entertainers include the Wild Together Trick &amp\;</span></span><br />\n<span style="font-family:cambria\,serif\;"><span style="font-size:12.0pt\;">Roman Riders as well as hilarious rodeo clowns\, kid&rsquo\;s games\, great music\, food &amp\; more.</span></span><br />\n<span style="font-family:cambria\,serif\;"><span style="font-size:12.0pt\;">&nbsp\;&nbsp\; &nbsp\;&nbsp\;&nbsp\;Cowboys &amp\; cowgirls from throughout the United States and Canada will be competing for over $30\,000 in cash and prizes. Big Hat Rodeo Company will bring spectacular bucking horses and bulls and fun for the whole family.</span></span><br />\n<span style="font-family:cambria\,serif\;"><span style="font-size:12.0pt\;">&nbsp\;&nbsp\; &nbsp\;&nbsp\;&nbsp\;&nbsp\;Friday is &ldquo\;Family Night&rdquo\; so bring the kids to &ldquo\;Meet the Cowboys &amp\; Clowns&rdquo\; when the gates open at 5PM and you can get autographs and photos as well as take a chute tour and meet the animals stars of our show.&nbsp\; Kids get to meet and feed some miniature horses.</span></span><br />\n<span style="font-family:cambria\,serif\;"><span style="font-size:12.0pt\;">&nbsp\;&nbsp\; &nbsp\;&nbsp\;&nbsp\;<strong>NEW</strong> for 2016 is the addition of a dance after both performances\, music by <strong>Chasin&rsquo\; Mason</strong>\, a beer garden and a VIP pit pass is available. The VIP ticket gets you access to the infield stage\, a visit with the cowboys\, refreshments and free score sheets.&nbsp\; These VIP passes are $15 for kids 5-11 and Seniors 65 &amp\; better and $25 for adults 12-64.&nbsp\; They are only available online at bighatrodeo.com or at our retail advance ticket locations.</span></span><br />\n<em><span style="font-family:cambria\,serif\;"><span style="font-size:12.0pt\;">The Great Midwest Pro Rodeo is the only annual fundraiser for the Memorial Rodeo Scholarship Fund. The Fund awards multiple scholarships to kids from across the US attending college full-time\, have a 3.0 GPA and are involved in the sport of rodeo in any way.&nbsp\; </span></span></em><br />\n<strong><span style="font-family:cambria\,serif\;"><span style="font-size:12.0pt\;">&nbsp\;&nbsp\;&nbsp\;&nbsp\;&nbsp\; Ticket Info:</span></span></strong><br />\n<span style="font-family:cambria\,serif\;"><span style="font-size:12.0pt\;">Kids 4-under are FREE&nbsp\;&nbsp\;&nbsp\; Parking is FREE!</span></span><br />\n<span style="font-family:cambria\,serif\;"><span style="font-size:12.0pt\;">Kids 5-11 &amp\; Seniors 65 &amp\; Better are $8 in advance &amp\; $10 at the gate</span></span><br />\n<span style="font-family:cambria\,serif\;"><span style="font-size:12.0pt\;">Adults 12-64 are $12 in advance/$15 at the gate</span></span><br />\n<span style="font-family:cambria\,serif\;"><span style="font-size:12.0pt\;">VIP Pit passes: Kids 5-11 &amp\; Seniors 65 &amp\; Better are $15&mdash\;Adults 12-64 are $25</span></span><br />\n<strong><span style="font-family:cambria\,serif\;"><span style="font-size:12.0pt\;">ALL ADVANCE TICKET SALES END AT 3PM on THURSDAY\, AUGUST 18<sup>th</sup>&hellip\;</span></span></strong><br />\n<em><span style="font-family:cambria\,serif\;"><span style="font-size:12.0pt\;">Advance Ticket Locations:&nbsp\; bighatrodeo.com\; Walworth County Fair office &amp\; Simon&rsquo\;s Feed &amp\; Seed in Elkhorn and Copies &amp\; Prints Plus in Lake Geneva.</span></span></em><br />\n<span style="font-family:cambria\,serif\;"><span style="font-size:12.0pt\;">For more information go to bighatrodeo.com or call 815/648-1971.</span></span><br />\n&nbsp\;
LOCATION:Walworth County Fairgrounds 411 E. Court St Elkhorn WI
UID:e.2059.2087
SEQUENCE:3
DTSTAMP:20260423T204758Z
URL:https://business.elkhornchamber.com/events/details/the-great-midwest-pro-rodeo-08-19-2016-2087
END:VEVENT

END:VCALENDAR
