BEGIN:VCALENDAR
VERSION:2.0
PRODID:-//ChamberMaster//Event Calendar 2.0//EN
METHOD:PUBLISH
X-PUBLISHED-TTL:P3D
REFRESH-INTERVAL:P3D
CALSCALE:GREGORIAN
BEGIN:VEVENT
DTSTART:20140925T190000Z
DTEND:20140925T210000Z
X-MICROSOFT-CDO-ALLDAYEVENT:FALSE
SUMMARY:The Gardens at RidgeStone Open House
DESCRIPTION:The Gardens at RidgeStone CBRF/Memory Care is officially open for business and accepting new residents. Come by for their open house for tours of the facility and refreshments.
X-ALT-DESC;FMTTYPE=text/html:The Gardens at RidgeStone CBRF/Memory Care is officially open for business and accepting new residents. Come by for their open house for tours of the facility and refreshments.
LOCATION:The Gardens at RidgeStone 233 W. Evergreen Pkwy\, Elkhorn
UID:e.2059.291
SEQUENCE:3
DTSTAMP:20260425T122311Z
URL:https://business.elkhornchamber.com/events/details/the-gardens-at-ridgestone-open-house-09-25-2014-291
END:VEVENT

END:VCALENDAR
