BEGIN:VCALENDAR
VERSION:2.0
PRODID:-//ChamberMaster//Event Calendar 2.0//EN
METHOD:PUBLISH
X-PUBLISHED-TTL:P3D
REFRESH-INTERVAL:P3D
CALSCALE:GREGORIAN
BEGIN:VEVENT
DTSTART:20150221T013000Z
DTEND:20150221T033000Z
X-MICROSOFT-CDO-ALLDAYEVENT:FALSE
SUMMARY:The Foreigner
DESCRIPTION:The Lakeland Players presents an outrageous comedy\, "The Foreigner" by Larry Shue at the Walworth County Performing Arts Center (Sprague Theatre). Friday and Saturday performances are at 7:30pm and Sunday performances are at 3pm. All tickets at $12 and can be purchased at the Elkhorn Chamber or by calling the ticket manager at 262-728-5578.
X-ALT-DESC;FMTTYPE=text/html:The Lakeland Players presents an outrageous comedy\, &quot\;The Foreigner&quot\; by Larry Shue at the Walworth County Performing Arts Center (Sprague Theatre). Friday and Saturday performances are at 7:30pm and Sunday performances are at 3pm. All tickets at $12 and can be purchased at the Elkhorn Chamber or by calling the ticket manager at 262-728-5578.
LOCATION:Walworth County Performing Arts Center (Sprague Theatre) 15 W. Walworth St.\, Elkhorn
UID:e.2059.822
SEQUENCE:3
DTSTAMP:20260425T040142Z
URL:https://business.elkhornchamber.com/events/details/the-foreigner-02-20-2015-822
END:VEVENT

END:VCALENDAR
