BEGIN:VCALENDAR
VERSION:2.0
PRODID:-//ChamberMaster//Event Calendar 2.0//EN
METHOD:PUBLISH
X-PUBLISHED-TTL:P3D
REFRESH-INTERVAL:P3D
CALSCALE:GREGORIAN
BEGIN:VEVENT
DTSTART;VALUE=DATE:20160825
DTEND;VALUE=DATE:20160826
TRANSP:TRANSPARENT
X-MICROSOFT-CDO-ALLDAYEVENT:TRUE
SUMMARY:The Force is With You at Sunset Pool
DESCRIPTION:Join us at the Sunset Pool in Elkhorn to make noodle light sabers!\n\nMovie on Saturday!
X-ALT-DESC;FMTTYPE=text/html:Join us at the Sunset Pool in Elkhorn to make noodle light sabers!<br />\nMovie on Saturday!
LOCATION:Sunset Pool Located on Devendorf St\, West Centrailia St and Park Avenue.
UID:e.2059.3513
SEQUENCE:3
DTSTAMP:20260423T205032Z
URL:https://business.elkhornchamber.com/events/details/the-force-is-with-you-at-sunset-pool-08-25-2016-3513
END:VEVENT

END:VCALENDAR
