BEGIN:VCALENDAR
VERSION:2.0
PRODID:-//ChamberMaster//Event Calendar 2.0//EN
METHOD:PUBLISH
X-PUBLISHED-TTL:P3D
REFRESH-INTERVAL:P3D
CALSCALE:GREGORIAN
BEGIN:VEVENT
DTSTART:20190913T000000Z
DTEND:20190913T030000Z
X-MICROSOFT-CDO-ALLDAYEVENT:FALSE
SUMMARY:The Environmental Impact of Foxconn on Southeast Wisconsin
DESCRIPTION:Geneva Lake Conservancy and Seno K/RLT Conservancy presents The Environmental Impact of Foxconn on Southeast Wisconsin on Thursday\, September 12th at 7PM at Veterans Terrace\, 589 Milwaukee Ave. Burlington\, WI. Speaker Kevin Muhs\, PE\, AICP will be speaking on the topic to understand the facts and myths with a questions and answer session to follow.
X-ALT-DESC;FMTTYPE=text/html:Geneva Lake Conservancy and Seno K/RLT Conservancy presents The Environmental Impact of Foxconn on Southeast Wisconsin on Thursday\, September 12th at 7PM at Veterans Terrace\, 589 Milwaukee Ave. Burlington\, WI. Speaker Kevin Muhs\, PE\, AICP will be speaking on the topic to understand the facts and myths with a questions and answer session to follow.&nbsp\;&nbsp\;&nbsp\;&nbsp\;
LOCATION:Veterans Terrace 589 Milwaukee Ave. Burlington\, WI
UID:e.2059.11179
SEQUENCE:3
DTSTAMP:20260420T123424Z
URL:https://business.elkhornchamber.com/events/details/the-environmental-impact-of-foxconn-on-southeast-wisconsin-11179
END:VEVENT

END:VCALENDAR
