BEGIN:VCALENDAR
VERSION:2.0
PRODID:-//ChamberMaster//Event Calendar 2.0//EN
METHOD:PUBLISH
X-PUBLISHED-TTL:P3D
REFRESH-INTERVAL:P3D
CALSCALE:GREGORIAN
BEGIN:VEVENT
DTSTART:20160721T190000Z
DTEND:20160721T203000Z
X-MICROSOFT-CDO-ALLDAYEVENT:FALSE
SUMMARY:The Differences of Alzheimer's Disease\, Dementia andf Memory Loss
DESCRIPTION:Tender Reflections~ An Assisted Living Community ... Presents:\n\nThe Differences of Alzheimer's Disease\, Dementia and Memory Loss. Join them at their location Thursday\, July 21st from 2pm - 3:30pm.\n\nPlease join us as Linda Markut\, LCSW from the Alzheimer's Association explains the differences between Alzheimer's disease\, dementia and memory loss.\n\nALL are Welcome!
X-ALT-DESC;FMTTYPE=text/html:Tender Reflections~ An Assisted Living Community ... Presents:<br />\nThe Differences of Alzheimer&#39\;s Disease\, Dementia and Memory Loss. Join them at their location Thursday\, July 21st from 2pm - 3:30pm.<br />\nPlease join us as Linda Markut\, LCSW from the Alzheimer&#39\;s Association explains the differences between Alzheimer&#39\;s disease\, dementia and memory loss.<br />\nALL are Welcome!
LOCATION:Tender Reflections 1550 North Country Club Parkway Elkhorn\, Wi
UID:e.2059.3584
SEQUENCE:3
DTSTAMP:20260423T221107Z
URL:https://business.elkhornchamber.com/events/details/the-differences-of-alzheimer-s-disease-dementia-andf-memory-loss-07-21-2016-3584
END:VEVENT

END:VCALENDAR
