BEGIN:VCALENDAR
VERSION:2.0
PRODID:-//ChamberMaster//Event Calendar 2.0//EN
METHOD:PUBLISH
X-PUBLISHED-TTL:P3D
REFRESH-INTERVAL:P3D
CALSCALE:GREGORIAN
BEGIN:VEVENT
DTSTART:20191214T180000Z
DTEND:20191214T200000Z
X-MICROSOFT-CDO-ALLDAYEVENT:FALSE
SUMMARY:The Dance Factory presents The Nutcracker
DESCRIPTION:The Dance Factory presents The Nutcracker at Young Auditorium on December 14th at 12:00 PM & 5:00 PM
X-ALT-DESC;FMTTYPE=text/html:The Dance Factory presents The Nutcracker at Young Auditorium on December 14th at 12:00 PM &amp\; 5:00 PM
LOCATION:Young Auditorium 930 West Main Street\, Whitewater
UID:e.2059.10999
SEQUENCE:3
DTSTAMP:20260419T233627Z
URL:https://business.elkhornchamber.com/events/details/the-dance-factory-presents-the-nutcracker-10999
END:VEVENT

END:VCALENDAR
